BEGIN:VCALENDAR
VERSION:2.0
PRODID:-//Marineland Street Rod &amp; Kustom Klub - ECPv4.6.16//NONSGML v1.0//EN
CALSCALE:GREGORIAN
METHOD:PUBLISH
X-WR-CALNAME:Marineland Street Rod &amp; Kustom Klub
X-ORIGINAL-URL:http://marinelandstreetrods.org.nz
X-WR-CALDESC:Events for Marineland Street Rod &amp; Kustom Klub
BEGIN:VEVENT
DTSTART;TZID=UTC+0:20170702T090000
DTEND;TZID=UTC+0:20170702T110000
DTSTAMP:20181224T105516
CREATED:20170517T060816Z
LAST-MODIFIED:20170608T110651Z
UID:199-1498986000-1498993200@marinelandstreetrods.org.nz
SUMMARY:PETROLHEAD BREAKFAST
DESCRIPTION:Dust off that Classic Car or Hot Rod and Meet new People while enjoying a Delicious Breakfast at the Jandal \nAlways the First Sunday of the Month Nationally \n
URL:http://marinelandstreetrods.org.nz/event/petrolhead-breakfast-2/
LOCATION:30 Nelson Quay\, Ahuriri\, Napier\, New Zealand
END:VEVENT
END:VCALENDAR