BEGIN:VCALENDAR
VERSION:2.0
PRODID:-//Marineland Street Rod &amp; Kustom Klub - ECPv4.6.16//NONSGML v1.0//EN
CALSCALE:GREGORIAN
METHOD:PUBLISH
X-WR-CALNAME:Marineland Street Rod &amp; Kustom Klub
X-ORIGINAL-URL:http://marinelandstreetrods.org.nz
X-WR-CALDESC:Events for Marineland Street Rod &amp; Kustom Klub
BEGIN:VEVENT
DTSTART;TZID=UTC+0:20170507T090000
DTEND;TZID=UTC+0:20170507T110000
DTSTAMP:20181224T105456
CREATED:20170417T044224Z
LAST-MODIFIED:20170417T045109Z
UID:182-1494147600-1494154800@marinelandstreetrods.org.nz
SUMMARY:Petrolhead Breakfast - All Welcome!
DESCRIPTION:PETROLHEAD BREAKFAST’s are open to ALL Hot Rods\, Classic Cars\, Trucks and Motorcycles…Please come on down and show of your Vehicle!! \nThis Event is NOT a Marineland organised event its a Free public event \n
URL:http://marinelandstreetrods.org.nz/event/petrolhead-breakfast-all-welcome/
LOCATION:30 Nelson Quay\, Ahuriri\, Napier\, New Zealand
ATTACH;FMTTYPE=image/jpeg:http://marinelandstreetrods.org.nz/wp-content/uploads/2017/04/17022125_10210692806648975_1075044585512307873_n.jpg
END:VEVENT
END:VCALENDAR